BEGIN:VCALENDAR
VERSION:2.0
PRODID:Events from www.apparelnews.net
X-WR-CALNAME:Events from www.apparelnews.net
X-WR-CALDESC:Events from www.apparelnews.net
BEGIN:VEVENT
SUMMARY:Mercedes-Benz Fashion Week Madrid
URL;VALUE=URI:http://www.apparelnews.net/events/2019/jul/05/mercedes-benz-fashion-week-madrid-1-c3e03048/?et=14231
DTSTART:20190705
DESCRIPTION;ENCODING=QUOTED-PRINTABLE:http://mbfwmadrid.ifema.es/en/home-ingles/

END:VEVENT
END:VCALENDAR
