BEGIN:VCALENDAR
VERSION:2.0
PRODID:Events from www.apparelnews.net
X-WR-CALNAME:Events from www.apparelnews.net
X-WR-CALDESC:Events from www.apparelnews.net
BEGIN:VEVENT
SUMMARY:The NBM Show New Jersey
URL;VALUE=URI:http://www.apparelnews.net/events/2019/jul/26/the-nbm-show-new-york-0a6579bc/?et=14037
DTSTART:20190726
DESCRIPTION;ENCODING=QUOTED-PRINTABLE:http://thenbmshow.com/

END:VEVENT
END:VCALENDAR
