BEGIN:VCALENDAR
VERSION:2.0
PRODID:Events from www.apparelnews.net
X-WR-CALNAME:Events from www.apparelnews.net
X-WR-CALDESC:Events from www.apparelnews.net
BEGIN:VEVENT
SUMMARY:Fame
URL;VALUE=URI:http://www.apparelnews.net/events/2019/jun/11/fame-tba-7337c03e-49a8ec0e-9d35fb24/?et=14441
DTSTART:20190611
DESCRIPTION;ENCODING=QUOTED-PRINTABLE:http://www.ubmfashion.com/shows/fame-1.5

END:VEVENT
END:VCALENDAR
