BEGIN:VCALENDAR
VERSION:2.0
PRODID:Events from www.apparelnews.net
X-WR-CALNAME:Events from www.apparelnews.net
X-WR-CALDESC:Events from www.apparelnews.net
BEGIN:VEVENT
SUMMARY:Gallery Shoes
URL;VALUE=URI:http://www.apparelnews.net/events/2019/mar/12/gallery-shoes-gds-e593db0c/?et=13914
DTSTART:20190312
DESCRIPTION;ENCODING=QUOTED-PRINTABLE:www.gds-online.com

END:VEVENT
END:VCALENDAR
