BEGIN:VCALENDAR
VERSION:2.0
PRODID:Events from www.apparelnews.net
X-WR-CALNAME:Events from www.apparelnews.net
X-WR-CALDESC:Events from www.apparelnews.net
BEGIN:VEVENT
SUMMARY:Fashion Access Hong Kong
URL;VALUE=URI:http://www.apparelnews.net/events/2019/mar/14/fashion-access-tba-2d04bd4a-c0143302/?et=12665
DTSTART:20190314
DESCRIPTION;ENCODING=QUOTED-PRINTABLE:www.aplf.com

END:VEVENT
END:VCALENDAR
