BEGIN:VCALENDAR
VERSION:2.0
PRODID:Events from www.apparelnews.net
X-WR-CALNAME:Events from www.apparelnews.net
X-WR-CALDESC:Events from www.apparelnews.net
BEGIN:VEVENT
SUMMARY:Techtextil Russia
URL;VALUE=URI:http://www.apparelnews.net/events/2019/mar/19/texprocess-americas-33ffc322-db9689-7501056a/?et=13557
DTSTART:20190319
DESCRIPTION;ENCODING=QUOTED-PRINTABLE:https://techtextil-russia.ru.messefrankfurt.com/moscow/en.html

END:VEVENT
END:VCALENDAR
