BEGIN:VCALENDAR
VERSION:2.0
PRODID:Events from www.apparelnews.net
X-WR-CALNAME:Events from www.apparelnews.net
X-WR-CALDESC:Events from www.apparelnews.net
BEGIN:VEVENT
SUMMARY:The One
URL;VALUE=URI:http://www.apparelnews.net/events/2019/mar/30/the-one-8710fe4a-8503d30e/?et=13530
DTSTART:20190330
DESCRIPTION;ENCODING=QUOTED-PRINTABLE:http://dallasmarketcenter.com

END:VEVENT
END:VCALENDAR
