BEGIN:VCALENDAR
VERSION:2.0
PRODID:Events from www.apparelnews.net
X-WR-CALNAME:Events from www.apparelnews.net
X-WR-CALDESC:Events from www.apparelnews.net
BEGIN:VEVENT
SUMMARY:Techtextil Frankfurt
URL;VALUE=URI:http://www.apparelnews.net/events/2019/may/14/techtextil-fc06eb1e/?et=13563
DTSTART:20190514
DESCRIPTION;ENCODING=QUOTED-PRINTABLE:

END:VEVENT
END:VCALENDAR
