BEGIN:VCALENDAR
VERSION:2.0
PRODID:Events from www.apparelnews.net
X-WR-CALNAME:Events from www.apparelnews.net
X-WR-CALDESC:Events from www.apparelnews.net
BEGIN:VEVENT
SUMMARY:Morocco International Yarn & Fabric Sourcing Show
URL;VALUE=URI:http://www.apparelnews.net/events/2019/nov/13/morocc-international-yarn-fabric-sourcing-show/?et=15138
DTSTART:20191113
DESCRIPTION;ENCODING=QUOTED-PRINTABLE:http://morocco-sourcingshow.com/

END:VEVENT
END:VCALENDAR
