BEGIN:VCALENDAR
VERSION:2.0
PRODID:Events from www.apparelnews.net
X-WR-CALNAME:Events from www.apparelnews.net
X-WR-CALDESC:Events from www.apparelnews.net
BEGIN:VEVENT
SUMMARY:ShanghaiTex
URL;VALUE=URI:http://www.apparelnews.net/events/2019/nov/25/shanghaitex-tba-0964c476/?et=13210
DTSTART:20191125
DESCRIPTION;ENCODING=QUOTED-PRINTABLE:http://www.shanghaitexonline.com

END:VEVENT
END:VCALENDAR
