BEGIN:VCALENDAR
VERSION:2.0
PRODID:Events from www.apparelnews.net
X-WR-CALNAME:Events from www.apparelnews.net
X-WR-CALDESC:Events from www.apparelnews.net
BEGIN:VEVENT
SUMMARY:Billings Market Association
URL;VALUE=URI:http://www.apparelnews.net/events/2019/sep/13/billings-market-association-ffe3eef-ffb300da/?et=15479
DTSTART:20190913
DESCRIPTION;ENCODING=QUOTED-PRINTABLE:www.billingsmarketassoc.com

END:VEVENT
END:VCALENDAR
