BEGIN:VCALENDAR
VERSION:2.0
PRODID:Events from www.apparelnews.net
X-WR-CALNAME:Events from www.apparelnews.net
X-WR-CALDESC:Events from www.apparelnews.net
BEGIN:VEVENT
SUMMARY:Shoes Room by Momad
URL;VALUE=URI:http://www.apparelnews.net/events/2019/sep/20/momad-shoes-93719dda-2df3d074-be50cfda/?et=15300
DTSTART:20190920
DESCRIPTION;ENCODING=QUOTED-PRINTABLE:http://www.ifema.es/shoesroombymomad_06/

END:VEVENT
END:VCALENDAR
