BEGIN:VCALENDAR
VERSION:2.0
PRODID:Events from www.apparelnews.net
X-WR-CALNAME:Events from www.apparelnews.net
X-WR-CALDESC:Events from www.apparelnews.net
BEGIN:VEVENT
SUMMARY:Young Label Awards
URL;VALUE=URI:http://www.apparelnews.net/events/2019/sep/26/young-label-awards/?et=15446
DTSTART:20190926
DESCRIPTION;ENCODING=QUOTED-PRINTABLE:https://younglabelawards.com/

END:VEVENT
END:VCALENDAR
