BEGIN:VCALENDAR
VERSION:2.0
PRODID:Events from www.apparelnews.net
X-WR-CALNAME:Events from www.apparelnews.net
X-WR-CALDESC:Events from www.apparelnews.net
BEGIN:VEVENT
SUMMARY:Cashmere World  **RESCHEDULED TO 6/1-3**
URL;VALUE=URI:http://www.apparelnews.net/events/2020/apr/01/cashmere-world-tba-59e0d4da-7be940f-ef8b2356/?et=15348
DTSTART:20200401
DESCRIPTION;ENCODING=QUOTED-PRINTABLE:www.aplf.com

END:VEVENT
END:VCALENDAR
