BEGIN:VCALENDAR
VERSION:2.0
PRODID:Events from www.apparelnews.net
X-WR-CALNAME:Events from www.apparelnews.net
X-WR-CALDESC:Events from www.apparelnews.net
BEGIN:VEVENT
SUMMARY:Showroom Shanghai **CANCELED**
URL;VALUE=URI:http://www.apparelnews.net/events/2020/apr/10/showroom-shanghai/?et=16943
DTSTART:20200410
DESCRIPTION;ENCODING=QUOTED-PRINTABLE:http://www.showroomshanghai.com/

END:VEVENT
END:VCALENDAR
