BEGIN:VCALENDAR
VERSION:2.0
PRODID:Events from www.apparelnews.net
X-WR-CALNAME:Events from www.apparelnews.net
X-WR-CALDESC:Events from www.apparelnews.net
BEGIN:VEVENT
SUMMARY:Hong Kong Fashion Week **RESCHEDULED TO 7/25-28**
URL;VALUE=URI:http://www.apparelnews.net/events/2020/apr/20/hong-kong-fashion-week-4cb21a36-93c-32025022/?et=15392
DTSTART:20200420
DESCRIPTION;ENCODING=QUOTED-PRINTABLE:http://www.hktdc.com

END:VEVENT
END:VCALENDAR
