BEGIN:VCALENDAR
VERSION:2.0
PRODID:Events from www.apparelnews.net
X-WR-CALNAME:Events from www.apparelnews.net
X-WR-CALDESC:Events from www.apparelnews.net
BEGIN:VEVENT
SUMMARY:Lectra Digital Roundtable: Connection\, Collaboration\, and COVID-19
URL;VALUE=URI:http://www.apparelnews.net/events/2020/apr/24/lectra-digital-roundtable-connection-collaboration/?et=17459
DTSTART:20200424T100000
DESCRIPTION;ENCODING=QUOTED-PRINTABLE:https://zoom.us/webinar/register/1315870627952/WN_OJuU-0HVTeSopqAUREySfw

END:VEVENT
END:VCALENDAR
