BEGIN:VCALENDAR
VERSION:2.0
PRODID:Events from www.apparelnews.net
X-WR-CALNAME:Events from www.apparelnews.net
X-WR-CALDESC:Events from www.apparelnews.net
BEGIN:VEVENT
SUMMARY:Brand Assembly **New Dates 9/21-23/20**
URL;VALUE=URI:http://www.apparelnews.net/events/2020/aug/21/brand-assembly-tba-aaacaf26-be2ad62-42ff7464/?et=17807
DTSTART:20200821
DESCRIPTION;ENCODING=QUOTED-PRINTABLE:http://www.brandassembly.com

END:VEVENT
END:VCALENDAR
