BEGIN:VCALENDAR
VERSION:2.0
PRODID:Events from www.apparelnews.net
X-WR-CALNAME:Events from www.apparelnews.net
X-WR-CALDESC:Events from www.apparelnews.net
BEGIN:VEVENT
SUMMARY:Women Wine & Wardrobe x Shop for Success benefitting Dress for Success
URL;VALUE=URI:http://www.apparelnews.net/events/2020/aug/26/empower-breakfast-benefitting-dress-5bfff96e/?et=17976
DTSTART:20200826T170000
DESCRIPTION;ENCODING=QUOTED-PRINTABLE:www.one.bidpal.net/womenwinewardrobe2020

END:VEVENT
END:VCALENDAR
