BEGIN:VCALENDAR
VERSION:2.0
PRODID:Events from www.apparelnews.net
X-WR-CALNAME:Events from www.apparelnews.net
X-WR-CALDESC:Events from www.apparelnews.net
BEGIN:VEVENT
SUMMARY:Curve Las Vegas **CANCELED**
URL;VALUE=URI:http://www.apparelnews.net/events/2020/aug/31/curve-las-vegas-eaf2bfce-abe5ba90-3-e1b7ce88/?et=15714
DTSTART:20200831
DESCRIPTION;ENCODING=QUOTED-PRINTABLE:http://www.ubmfashion.com/shows/curve-las-vegas

END:VEVENT
END:VCALENDAR
