BEGIN:VCALENDAR
VERSION:2.0
PRODID:Events from www.apparelnews.net
X-WR-CALNAME:Events from www.apparelnews.net
X-WR-CALDESC:Events from www.apparelnews.net
BEGIN:VEVENT
SUMMARY:Trendz
URL;VALUE=URI:http://www.apparelnews.net/events/2020/aug/31/trendz-aaaf1d92-721eaf9e-4c6e81bc-7-41395d5c/?et=16014
DTSTART:20200831
DESCRIPTION;ENCODING=QUOTED-PRINTABLE:www.Trendzshow.com; (888) 249-1377

END:VEVENT
END:VCALENDAR
