BEGIN:VCALENDAR
VERSION:2.0
PRODID:Events from www.apparelnews.net
X-WR-CALNAME:Events from www.apparelnews.net
X-WR-CALDESC:Events from www.apparelnews.net
BEGIN:VEVENT
SUMMARY:The Tents
URL;VALUE=URI:http://www.apparelnews.net/events/2020/feb/07/tents-7d7039d6-9ce8aae6-2aa79e7a-d3503a74/?et=15713
DTSTART:20200207
DESCRIPTION;ENCODING=QUOTED-PRINTABLE:http://www.ubmfashion.com/shows/tentslv

END:VEVENT
END:VCALENDAR
