BEGIN:VCALENDAR
VERSION:2.0
PRODID:Events from www.apparelnews.net
X-WR-CALNAME:Events from www.apparelnews.net
X-WR-CALDESC:Events from www.apparelnews.net
BEGIN:VEVENT
SUMMARY:Michigan Women's Wear Market
URL;VALUE=URI:http://www.apparelnews.net/events/2020/feb/17/michigan-womens-wear-market-tba-bdd-cbb7e0c3/?et=16197
DTSTART:20200217
DESCRIPTION;ENCODING=QUOTED-PRINTABLE:http://www.silverliningshows.com/\n\nMetro-Michigan Show

END:VEVENT
END:VCALENDAR
