BEGIN:VCALENDAR
VERSION:2.0
PRODID:Events from www.apparelnews.net
X-WR-CALNAME:Events from www.apparelnews.net
X-WR-CALDESC:Events from www.apparelnews.net
BEGIN:VEVENT
SUMMARY:Asian Licensing Conference
URL;VALUE=URI:http://www.apparelnews.net/events/2020/jan/07/asian-licensing-conference-857aa5f2-da04f25a/?et=16035
DTSTART:20200107
DESCRIPTION;ENCODING=QUOTED-PRINTABLE:http://www.hktdc.com

END:VEVENT
END:VCALENDAR
