BEGIN:VCALENDAR
VERSION:2.0
PRODID:Events from www.apparelnews.net
X-WR-CALNAME:Events from www.apparelnews.net
X-WR-CALDESC:Events from www.apparelnews.net
BEGIN:VEVENT
SUMMARY:Dallas Total Home & Gift Market
URL;VALUE=URI:http://www.apparelnews.net/events/2020/jan/14/dallas-apparel-accessories-market-t-a0fd6b46/?et=15590
DTSTART:20200114
DESCRIPTION;ENCODING=QUOTED-PRINTABLE:http://dallasmarketcenter.com

END:VEVENT
END:VCALENDAR
