BEGIN:VCALENDAR
VERSION:2.0
PRODID:Events from www.apparelnews.net
X-WR-CALNAME:Events from www.apparelnews.net
X-WR-CALDESC:Events from www.apparelnews.net
BEGIN:VEVENT
SUMMARY:Panorama Berlin
URL;VALUE=URI:http://www.apparelnews.net/events/2020/jan/16/panorama-berlin-86a40d76-fc4b86d8/?et=16602
DTSTART:20200116
DESCRIPTION;ENCODING=QUOTED-PRINTABLE:www.panorama-berlin.com

END:VEVENT
END:VCALENDAR
