BEGIN:VCALENDAR
VERSION:2.0
PRODID:Events from www.apparelnews.net
X-WR-CALNAME:Events from www.apparelnews.net
X-WR-CALDESC:Events from www.apparelnews.net
BEGIN:VEVENT
SUMMARY:Premiere Vision New York
URL;VALUE=URI:http://www.apparelnews.net/events/2020/jan/22/premiere-vision-new-york-7b6fff12-5-447618c4/?et=15763
DTSTART:20200122
DESCRIPTION;ENCODING=QUOTED-PRINTABLE:https://www.premierevision-newyork.com/

END:VEVENT
END:VCALENDAR
