BEGIN:VCALENDAR
VERSION:2.0
PRODID:Events from www.apparelnews.net
X-WR-CALNAME:Events from www.apparelnews.net
X-WR-CALDESC:Events from www.apparelnews.net
BEGIN:VEVENT
SUMMARY:Philadelphia Gift Show
URL;VALUE=URI:http://www.apparelnews.net/events/2020/jan/28/philadelphia-gift-show-bd5137aa-699-c8ada336/?et=16006
DTSTART:20200128
DESCRIPTION;ENCODING=QUOTED-PRINTABLE:www.urban-expo.com

END:VEVENT
END:VCALENDAR
