BEGIN:VCALENDAR
VERSION:2.0
PRODID:Events from www.apparelnews.net
X-WR-CALNAME:Events from www.apparelnews.net
X-WR-CALDESC:Events from www.apparelnews.net
BEGIN:VEVENT
SUMMARY:Mercedes-Benz Fashion Week Berlin **CANCELED**
URL;VALUE=URI:http://www.apparelnews.net/events/2020/jul/01/mercedes-benz-fashion-week-berlin-t-924527d8/?et=17308
DTSTART:20200701
DESCRIPTION;ENCODING=QUOTED-PRINTABLE:https://mbfw.berlin/

END:VEVENT
END:VCALENDAR
