BEGIN:VCALENDAR
VERSION:2.0
PRODID:Events from www.apparelnews.net
X-WR-CALNAME:Events from www.apparelnews.net
X-WR-CALDESC:Events from www.apparelnews.net
BEGIN:VEVENT
SUMMARY:FashionTechBerlin **CANCELED**
URL;VALUE=URI:http://www.apparelnews.net/events/2020/jul/02/fashiontechberlin-f9e13fd8-28497c24-c87c10da/?et=16954
DTSTART:20200702
DESCRIPTION;ENCODING=QUOTED-PRINTABLE:https://www.fashiontech.berlin/en/

END:VEVENT
END:VCALENDAR
