BEGIN:VCALENDAR
VERSION:2.0
PRODID:Events from www.apparelnews.net
X-WR-CALNAME:Events from www.apparelnews.net
X-WR-CALDESC:Events from www.apparelnews.net
BEGIN:VEVENT
SUMMARY:TrendSet **CANCELED--New Dates TBA**
URL;VALUE=URI:http://www.apparelnews.net/events/2020/jul/11/trendset-0253ecba-804b7812-e201e8de-b099f1de/?et=16001
DTSTART:20200711
DESCRIPTION;ENCODING=QUOTED-PRINTABLE:https://trendset.de/en/

END:VEVENT
END:VCALENDAR
