BEGIN:VCALENDAR
VERSION:2.0
PRODID:Events from www.apparelnews.net
X-WR-CALNAME:Events from www.apparelnews.net
X-WR-CALDESC:Events from www.apparelnews.net
BEGIN:VEVENT
SUMMARY:WWSRA Rocky Mountain Summer Show
URL;VALUE=URI:http://www.apparelnews.net/events/2020/jul/14/wwsra-rocky-mountain-193e93c4-e6bd0-5cf23604/?et=15887
DTSTART:20200714
DESCRIPTION;ENCODING=QUOTED-PRINTABLE:wwsra.com

END:VEVENT
END:VCALENDAR
