BEGIN:VCALENDAR
VERSION:2.0
PRODID:Events from www.apparelnews.net
X-WR-CALNAME:Events from www.apparelnews.net
X-WR-CALDESC:Events from www.apparelnews.net
BEGIN:VEVENT
SUMMARY:Home Textiles Sourcing Expo Virtual Edition
URL;VALUE=URI:http://www.apparelnews.net/events/2020/jul/20/home-textiles-sourcing-tba-ff4a5fac-b3f448a4/?et=15738
DTSTART:20200720
DESCRIPTION;ENCODING=QUOTED-PRINTABLE:https://home-textiles-sourcing.us.messefrankfurt.com/new-york/en.html

END:VEVENT
END:VCALENDAR
