BEGIN:VCALENDAR
VERSION:2.0
PRODID:Events from www.apparelnews.net
X-WR-CALNAME:Events from www.apparelnews.net
X-WR-CALDESC:Events from www.apparelnews.net
BEGIN:VEVENT
SUMMARY:Man New York (TBA)
URL;VALUE=URI:http://www.apparelnews.net/events/2020/jul/31/man-new-york-08a444be--edf085d2-744ff0e2/?et=17319
DTSTART:20200731
DESCRIPTION;ENCODING=QUOTED-PRINTABLE:https://www.manwomanshows.com/

END:VEVENT
END:VCALENDAR
