BEGIN:VCALENDAR
VERSION:2.0
PRODID:Events from www.apparelnews.net
X-WR-CALNAME:Events from www.apparelnews.net
X-WR-CALDESC:Events from www.apparelnews.net
BEGIN:VEVENT
SUMMARY:ICSC How Public and Non-Profit Partners Can Aid Retail Recovery
URL;VALUE=URI:http://www.apparelnews.net/events/2020/jun/03/spree-recon-af1a2e06-c82d05e6-c3d48-1e53f246/?et=17703
DTSTART:20200603
DESCRIPTION;ENCODING=QUOTED-PRINTABLE:https://www.icsc.org\n\nInternational Council of Shopping Centers

END:VEVENT
END:VCALENDAR
