BEGIN:VCALENDAR
VERSION:2.0
PRODID:Events from www.apparelnews.net
X-WR-CALNAME:Events from www.apparelnews.net
X-WR-CALDESC:Events from www.apparelnews.net
BEGIN:VEVENT
SUMMARY:Hong Kong Jewellery & Gem Fair
URL;VALUE=URI:http://www.apparelnews.net/events/2020/jun/25/hong-kong-international-jewellery-s-d1c631ca/?et=17444
DTSTART:20200625
DESCRIPTION;ENCODING=QUOTED-PRINTABLE:https://exhibitions.jewellerynet.com/6jg/en-us/

END:VEVENT
END:VCALENDAR
