BEGIN:VCALENDAR
VERSION:2.0
PRODID:Events from www.apparelnews.net
X-WR-CALNAME:Events from www.apparelnews.net
X-WR-CALDESC:Events from www.apparelnews.net
BEGIN:VEVENT
SUMMARY:Kidsworld
URL;VALUE=URI:http://www.apparelnews.net/events/2020/jun/26/kidsworld-87018f46-6fc77ea0-0d632b6-a32b5818/?et=17130
DTSTART:20200626
DESCRIPTION;ENCODING=QUOTED-PRINTABLE:http://dallasmarketcenter.com

END:VEVENT
END:VCALENDAR
