BEGIN:VCALENDAR
VERSION:2.0
PRODID:Events from www.apparelnews.net
X-WR-CALNAME:Events from www.apparelnews.net
X-WR-CALDESC:Events from www.apparelnews.net
BEGIN:VEVENT
SUMMARY:East China Fair Shanghai **POSTPONED**
URL;VALUE=URI:http://www.apparelnews.net/events/2020/mar/04/international-premium-incentive-sho-0114bd2a/?et=16464
DTSTART:20200304
DESCRIPTION;ENCODING=QUOTED-PRINTABLE:http://www.eastchinafair.org

END:VEVENT
END:VCALENDAR
