BEGIN:VCALENDAR
VERSION:2.0
PRODID:Events from www.apparelnews.net
X-WR-CALNAME:Events from www.apparelnews.net
X-WR-CALDESC:Events from www.apparelnews.net
BEGIN:VEVENT
SUMMARY:Resassembled Show
URL;VALUE=URI:http://www.apparelnews.net/events/2020/mar/09/brand-assembly-tba-023d511c-d8a903f-a60d8592/?et=16793
DTSTART:20200309
DESCRIPTION;ENCODING=QUOTED-PRINTABLE:Cooper Design Space\n\nhttp://www.brandassembly.com/reassembled-show-los-angeles

END:VEVENT
END:VCALENDAR
