BEGIN:VCALENDAR
VERSION:2.0
PRODID:Events from www.apparelnews.net
X-WR-CALNAME:Events from www.apparelnews.net
X-WR-CALDESC:Events from www.apparelnews.net
BEGIN:VEVENT
SUMMARY:Jumble Tokyo **POSTPONED**
URL;VALUE=URI:http://www.apparelnews.net/events/2020/mar/11/jumbo-73c6a30e-0d4395f6/?et=16624
DTSTART:20200311
DESCRIPTION;ENCODING=QUOTED-PRINTABLE:http://jumble-tokyo.com/information-en/

END:VEVENT
END:VCALENDAR
