BEGIN:VCALENDAR
VERSION:2.0
PRODID:Events from www.apparelnews.net
X-WR-CALNAME:Events from www.apparelnews.net
X-WR-CALDESC:Events from www.apparelnews.net
BEGIN:VEVENT
SUMMARY:MJSA Expo **POSTPONED**
URL;VALUE=URI:http://www.apparelnews.net/events/2020/mar/15/mjsa-expo-93695ce2-9405847e-f7ce1074/?et=16485
DTSTART:20200315
DESCRIPTION;ENCODING=QUOTED-PRINTABLE:http://www.mjsa.org

END:VEVENT
END:VCALENDAR
