BEGIN:VCALENDAR
VERSION:2.0
PRODID:Events from www.apparelnews.net
X-WR-CALNAME:Events from www.apparelnews.net
X-WR-CALDESC:Events from www.apparelnews.net
BEGIN:VEVENT
SUMMARY:New England Apparel Club Signature Show **CANCELED**
URL;VALUE=URI:http://www.apparelnews.net/events/2020/mar/18/new-england-apparel-club-portland-7-f3716766/?et=16058
DTSTART:20200318
DESCRIPTION;ENCODING=QUOTED-PRINTABLE:https://www.neacshow.com/trade-shows

END:VEVENT
END:VCALENDAR
