BEGIN:VCALENDAR
VERSION:2.0
PRODID:Events from www.apparelnews.net
X-WR-CALNAME:Events from www.apparelnews.net
X-WR-CALDESC:Events from www.apparelnews.net
BEGIN:VEVENT
SUMMARY:Interfabric Moscow
URL;VALUE=URI:http://www.apparelnews.net/events/2020/mar/20/interfabric-moscow-12ea2658/?et=16498
DTSTART:20200320
DESCRIPTION;ENCODING=QUOTED-PRINTABLE:http://intertkan.ru/en/\n\nInternational Exhibition&nbsp;of Fabrics and Textile Materials\n\n&nbsp;

END:VEVENT
END:VCALENDAR
