BEGIN:VCALENDAR
VERSION:2.0
PRODID:Events from www.apparelnews.net
X-WR-CALNAME:Events from www.apparelnews.net
X-WR-CALDESC:Events from www.apparelnews.net
BEGIN:VEVENT
SUMMARY:London Print Design Fair **CANCELED**
URL;VALUE=URI:http://www.apparelnews.net/events/2020/mar/26/texfusion-tba-34ce9d0e-bd1f9488-b3691a80/?et=16706
DTSTART:20200326
DESCRIPTION;ENCODING=QUOTED-PRINTABLE:http://texfusion.co.uk

END:VEVENT
END:VCALENDAR
