BEGIN:VCALENDAR
VERSION:2.0
PRODID:Events from www.apparelnews.net
X-WR-CALNAME:Events from www.apparelnews.net
X-WR-CALDESC:Events from www.apparelnews.net
BEGIN:VEVENT
SUMMARY:Trendz **CANCELED**
URL;VALUE=URI:http://www.apparelnews.net/events/2020/mar/28/trendz-aaaf1d92-721eaf9e-4c6e81bc-7-e765a3a0/?et=15837
DTSTART:20200328
DESCRIPTION;ENCODING=QUOTED-PRINTABLE:www.Trendzshow.com\n\n(888) 249-1377

END:VEVENT
END:VCALENDAR
