BEGIN:VCALENDAR
VERSION:2.0
PRODID:Events from www.apparelnews.net
X-WR-CALNAME:Events from www.apparelnews.net
X-WR-CALDESC:Events from www.apparelnews.net
BEGIN:VEVENT
SUMMARY:All China Leather Exhibition Hong Kong **RESCHEDULED TO 6/1-3**
URL;VALUE=URI:http://www.apparelnews.net/events/2020/mar/31/all-china-leather-exhibition-33c017-ff920076/?et=16487
DTSTART:20200331
DESCRIPTION;ENCODING=QUOTED-PRINTABLE:www.leatherfair.aplf.com/en-us/

END:VEVENT
END:VCALENDAR
