BEGIN:VCALENDAR
VERSION:2.0
PRODID:Events from www.apparelnews.net
X-WR-CALNAME:Events from www.apparelnews.net
X-WR-CALDESC:Events from www.apparelnews.net
BEGIN:VEVENT
SUMMARY:Procolombia Virtual Macrorrueda
URL;VALUE=URI:http://www.apparelnews.net/events/2020/nov/03/macrorrueda-0a9370e2-3ff8d692-d2fa0fc0/?et=18672
DTSTART:20201103
DESCRIPTION;ENCODING=QUOTED-PRINTABLE:www.macrorruedasprocolombia.co\n\nBusiness matching forum

END:VEVENT
END:VCALENDAR
