BEGIN:VCALENDAR
VERSION:2.0
PRODID:Events from www.apparelnews.net
X-WR-CALNAME:Events from www.apparelnews.net
X-WR-CALDESC:Events from www.apparelnews.net
BEGIN:VEVENT
SUMMARY:Michigan Women's Wear Market
URL;VALUE=URI:http://www.apparelnews.net/events/2020/nov/09/michigan-womens-wear-market-tba-bdd-a399402c/?et=17509
DTSTART:20201109
DESCRIPTION;ENCODING=QUOTED-PRINTABLE:http://www.silverliningshows.com/\n\nMetro-Michigan Show

END:VEVENT
END:VCALENDAR
