BEGIN:VCALENDAR
VERSION:2.0
PRODID:Events from www.apparelnews.net
X-WR-CALNAME:Events from www.apparelnews.net
X-WR-CALDESC:Events from www.apparelnews.net
BEGIN:VEVENT
SUMMARY:Digital Denim Premiere Vision
URL;VALUE=URI:http://www.apparelnews.net/events/2020/nov/30/denim-premiere-vision-tba-4c7c82b8--123a2f3c/?et=17305
DTSTART:20201130
DESCRIPTION;ENCODING=QUOTED-PRINTABLE:www.denimpremierevision.com

END:VEVENT
END:VCALENDAR
