BEGIN:VCALENDAR
VERSION:2.0
PRODID:Events from www.apparelnews.net
X-WR-CALNAME:Events from www.apparelnews.net
X-WR-CALDESC:Events from www.apparelnews.net
BEGIN:VEVENT
SUMMARY:Virtual Connections Germany
URL;VALUE=URI:http://www.apparelnews.net/events/2020/oct/15/connections-tba-4c794b8e-93599a0c-9-dfbaf402/?et=15856
DTSTART:20201015
DESCRIPTION;ENCODING=QUOTED-PRINTABLE:http://forms.lebook.com/connections/

END:VEVENT
END:VCALENDAR
